Package: scDiagnostics Version: 1.0.0 Command: /Library/Frameworks/R.framework/Resources/bin/R CMD INSTALL scDiagnostics StartedAt: 2025-02-10 16:01:17 -0500 (Mon, 10 Feb 2025) EndedAt: 2025-02-10 16:01:48 -0500 (Mon, 10 Feb 2025) EllapsedTime: 31.0 seconds RetCode: 0 Status: OK