Package: scDiagnostics Version: 1.0.0 Command: /Library/Frameworks/R.framework/Resources/bin/R CMD build --keep-empty-dirs --no-resave-data scDiagnostics StartedAt: 2025-02-03 22:01:18 -0500 (Mon, 03 Feb 2025) EndedAt: 2025-02-03 22:08:15 -0500 (Mon, 03 Feb 2025) EllapsedTime: 417.9 seconds RetCode: 0 Status: OK PackageFile: scDiagnostics_1.0.0.tar.gz PackageFileSize: 3.62 MiB