Package: scDiagnostics Version: 1.0.0 Command: /home/biocbuild/bbs-3.20-bioc/R/bin/R CMD build --keep-empty-dirs --no-resave-data --md5 scDiagnostics StartedAt: 2025-02-03 19:09:50 -0500 (Mon, 03 Feb 2025) EndedAt: 2025-02-03 19:13:02 -0500 (Mon, 03 Feb 2025) EllapsedTime: 192.2 seconds RetCode: 0 Status: OK PackageFile: scDiagnostics_1.0.0.tar.gz PackageFileSize: 3.626 MiB