Package: scDiagnostics Version: 1.0.0 Command: /home/biocbuild/R/R/bin/R CMD check --install=check:scDiagnostics.install-out.txt --library=/home/biocbuild/R/R/site-library --no-vignettes --timings scDiagnostics_1.0.0.tar.gz StartedAt: 2025-01-31 10:08:01 -0000 (Fri, 31 Jan 2025) EndedAt: 2025-01-31 10:18:26 -0000 (Fri, 31 Jan 2025) EllapsedTime: 624.4 seconds RetCode: 0 Status: OK CheckDir: scDiagnostics.Rcheck Warnings: 0