Package: scDotPlot Version: 1.0.0 Command: /Library/Frameworks/R.framework/Resources/bin/R CMD build --keep-empty-dirs --no-resave-data scDotPlot StartedAt: 2025-02-04 07:29:29 -0500 (Tue, 04 Feb 2025) EndedAt: 2025-02-04 07:31:11 -0500 (Tue, 04 Feb 2025) EllapsedTime: 102.5 seconds RetCode: 0 Status: OK PackageFile: scDotPlot_1.0.0.tar.gz PackageFileSize: 1.954 MiB