Package: scDotPlot Version: 1.0.0 Command: /Library/Frameworks/R.framework/Resources/bin/R CMD check --install=check:scDotPlot.install-out.txt --library=/Library/Frameworks/R.framework/Resources/library --no-vignettes --timings scDotPlot_1.0.0.tar.gz StartedAt: 2025-02-12 08:25:23 -0500 (Wed, 12 Feb 2025) EndedAt: 2025-02-12 08:30:48 -0500 (Wed, 12 Feb 2025) EllapsedTime: 325.5 seconds RetCode: 0 Status: OK CheckDir: scDotPlot.Rcheck Warnings: 0