Package: scDotPlot Version: 1.0.0 Command: /Library/Frameworks/R.framework/Resources/bin/R CMD INSTALL scDotPlot StartedAt: 2025-02-03 18:14:11 -0500 (Mon, 03 Feb 2025) EndedAt: 2025-02-03 18:14:56 -0500 (Mon, 03 Feb 2025) EllapsedTime: 45.3 seconds RetCode: 0 Status: OK