Package: scDotPlot Version: 1.0.0 Command: /Library/Frameworks/R.framework/Resources/bin/R CMD build --keep-empty-dirs --no-resave-data scDotPlot StartedAt: 2024-11-19 18:32:04 -0500 (Tue, 19 Nov 2024) EndedAt: 2024-11-19 18:34:11 -0500 (Tue, 19 Nov 2024) EllapsedTime: 126.8 seconds RetCode: 0 Status: OK PackageFile: scDotPlot_1.0.0.tar.gz PackageFileSize: 1.954 MiB