Package: scDotPlot Version: 1.0.0 Command: rm -rf scDotPlot.buildbin-libdir && mkdir scDotPlot.buildbin-libdir && /Users/biocbuild/BBS/utils/build-universal.sh scDotPlot_1.0.0.tar.gz /Library/Frameworks/R.framework/Resources/bin/R scDotPlot.buildbin-libdir StartedAt: 2025-01-31 13:38:15 -0500 (Fri, 31 Jan 2025) EndedAt: 2025-01-31 13:39:42 -0500 (Fri, 31 Jan 2025) EllapsedTime: 87.1 seconds RetCode: 0 Status: OK PackageFile: scDotPlot_1.0.0.tgz PackageFileSize: 1.982 MiB