Package: scDotPlot Version: 1.0.0 Command: /Library/Frameworks/R.framework/Resources/bin/R CMD build --keep-empty-dirs --no-resave-data scDotPlot StartedAt: 2025-02-03 22:01:27 -0500 (Mon, 03 Feb 2025) EndedAt: 2025-02-03 22:05:07 -0500 (Mon, 03 Feb 2025) EllapsedTime: 219.8 seconds RetCode: 0 Status: OK PackageFile: scDotPlot_1.0.0.tar.gz PackageFileSize: 1.954 MiB