Package: scDotPlot Version: 1.0.0 Command: /Library/Frameworks/R.framework/Resources/bin/R CMD INSTALL scDotPlot StartedAt: 2025-02-03 16:48:28 -0500 (Mon, 03 Feb 2025) EndedAt: 2025-02-03 16:49:53 -0500 (Mon, 03 Feb 2025) EllapsedTime: 84.7 seconds RetCode: 0 Status: OK