Package: scDotPlot Version: 1.0.0 Command: chmod a+r scDotPlot -R && F:\biocbuild\bbs-3.20-bioc\R\bin\R.exe CMD build --keep-empty-dirs --no-resave-data scDotPlot StartedAt: 2025-01-30 21:38:57 -0500 (Thu, 30 Jan 2025) EndedAt: 2025-01-30 21:41:18 -0500 (Thu, 30 Jan 2025) EllapsedTime: 141.3 seconds RetCode: 0 Status: OK PackageFile: scDotPlot_1.0.0.tar.gz PackageFileSize: 670.1 KiB