Package: scDotPlot Version: 1.0.0 Command: /home/biocbuild/R/R/bin/R CMD build --keep-empty-dirs --no-resave-data scDotPlot StartedAt: 2025-02-11 02:18:33 -0000 (Tue, 11 Feb 2025) EndedAt: 2025-02-11 02:20:16 -0000 (Tue, 11 Feb 2025) EllapsedTime: 103.1 seconds RetCode: 0 Status: OK PackageFile: scDotPlot_1.0.0.tar.gz PackageFileSize: 927.8 KiB