Package: scGPS Version: 1.20.0 Command: rm -rf scGPS.buildbin-libdir && mkdir scGPS.buildbin-libdir && /Users/biocbuild/BBS/utils/build-universal.sh scGPS_1.20.0.tar.gz /Library/Frameworks/R.framework/Resources/bin/R scGPS.buildbin-libdir StartedAt: 2025-02-01 16:45:33 -0500 (Sat, 01 Feb 2025) EndedAt: 2025-02-01 16:46:35 -0500 (Sat, 01 Feb 2025) EllapsedTime: 62.2 seconds RetCode: 0 Status: OK PackageFile: scGPS_1.20.0.tgz PackageFileSize: 2.655 MiB