Package: scGPS Version: 1.20.0 Command: /Library/Frameworks/R.framework/Resources/bin/R CMD build --keep-empty-dirs --no-resave-data scGPS StartedAt: 2025-01-31 07:22:29 -0500 (Fri, 31 Jan 2025) EndedAt: 2025-01-31 07:28:39 -0500 (Fri, 31 Jan 2025) EllapsedTime: 369.6 seconds RetCode: 0 Status: OK PackageFile: scGPS_1.20.0.tar.gz PackageFileSize: 2.03 MiB