Package: scGPS Version: 1.20.0 Command: /Library/Frameworks/R.framework/Resources/bin/R CMD build --keep-empty-dirs --no-resave-data scGPS StartedAt: 2025-01-30 22:35:34 -0500 (Thu, 30 Jan 2025) EndedAt: 2025-01-30 22:49:02 -0500 (Thu, 30 Jan 2025) EllapsedTime: 807.9 seconds RetCode: 0 Status: OK PackageFile: scGPS_1.20.0.tar.gz PackageFileSize: 2.029 MiB