Package: scGPS Version: 1.20.0 Command: /Library/Frameworks/R.framework/Resources/bin/R CMD check --install=check:scGPS.install-out.txt --library=/Library/Frameworks/R.framework/Resources/library --no-vignettes --timings scGPS_1.20.0.tar.gz StartedAt: 2025-01-31 09:39:26 -0500 (Fri, 31 Jan 2025) EndedAt: 2025-01-31 09:53:47 -0500 (Fri, 31 Jan 2025) EllapsedTime: 860.7 seconds RetCode: 0 Status: OK CheckDir: scGPS.Rcheck Warnings: 0