Package: scGPS Version: 1.20.0 Command: /home/biocbuild/bbs-3.20-bioc/R/bin/R CMD build --keep-empty-dirs --no-resave-data --md5 scGPS StartedAt: 2025-01-30 19:01:23 -0500 (Thu, 30 Jan 2025) EndedAt: 2025-01-30 19:06:24 -0500 (Thu, 30 Jan 2025) EllapsedTime: 301.3 seconds RetCode: 0 Status: OK PackageFile: scGPS_1.20.0.tar.gz PackageFileSize: 2.02 MiB