Package: scGPS Version: 1.20.0 Command: /home/biocbuild/bbs-3.20-bioc/R/bin/R CMD check --install=check:scGPS.install-out.txt --library=/home/biocbuild/bbs-3.20-bioc/R/site-library --timings scGPS_1.20.0.tar.gz StartedAt: 2025-01-31 02:02:11 -0500 (Fri, 31 Jan 2025) EndedAt: 2025-01-31 02:12:21 -0500 (Fri, 31 Jan 2025) EllapsedTime: 609.5 seconds RetCode: 0 Status: OK CheckDir: scGPS.Rcheck Warnings: 0