Package: scGPS Version: 1.20.0 Command: /home/biocbuild/R/R/bin/R CMD INSTALL scGPS StartedAt: 2025-01-30 20:56:49 -0000 (Thu, 30 Jan 2025) EndedAt: 2025-01-30 20:58:01 -0000 (Thu, 30 Jan 2025) EllapsedTime: 71.9 seconds RetCode: 0 Status: OK