Package: scMerge Version: 1.22.0 Command: rm -rf scMerge.buildbin-libdir && mkdir scMerge.buildbin-libdir && /Users/biocbuild/BBS/utils/build-universal.sh scMerge_1.22.0.tar.gz /Library/Frameworks/R.framework/Resources/bin/R scMerge.buildbin-libdir StartedAt: 2025-02-12 16:55:16 -0500 (Wed, 12 Feb 2025) EndedAt: 2025-02-12 16:56:06 -0500 (Wed, 12 Feb 2025) EllapsedTime: 50.6 seconds RetCode: 0 Status: OK PackageFile: scMerge_1.22.0.tgz PackageFileSize: 3.547 MiB