Package: scMerge Version: 1.22.0 Command: /Library/Frameworks/R.framework/Resources/bin/R CMD check --install=check:scMerge.install-out.txt --library=/Library/Frameworks/R.framework/Resources/library --no-vignettes --timings scMerge_1.22.0.tar.gz StartedAt: 2025-02-04 09:43:43 -0500 (Tue, 04 Feb 2025) EndedAt: 2025-02-04 09:58:59 -0500 (Tue, 04 Feb 2025) EllapsedTime: 915.7 seconds RetCode: 0 Status: OK CheckDir: scMerge.Rcheck Warnings: 0