Package: scMerge Version: 1.22.0 Command: /Library/Frameworks/R.framework/Resources/bin/R CMD INSTALL scMerge StartedAt: 2025-02-03 16:38:54 -0500 (Mon, 03 Feb 2025) EndedAt: 2025-02-03 16:40:25 -0500 (Mon, 03 Feb 2025) EllapsedTime: 91.0 seconds RetCode: 0 Status: OK