Package: scMerge Version: 1.22.0 Command: rm -rf scMerge.buildbin-libdir && mkdir scMerge.buildbin-libdir && F:\biocbuild\bbs-3.20-bioc\R\bin\R.exe CMD INSTALL --build --library=scMerge.buildbin-libdir scMerge_1.22.0.tar.gz StartedAt: 2025-02-04 09:27:52 -0500 (Tue, 04 Feb 2025) EndedAt: 2025-02-04 09:28:49 -0500 (Tue, 04 Feb 2025) EllapsedTime: 57.1 seconds RetCode: 0 Status: OK PackageFile: scMerge_1.22.0.zip PackageFileSize: 2.671 MiB