Package: scMerge Version: 1.22.0 Command: chmod a+r scMerge -R && F:\biocbuild\bbs-3.20-bioc\R\bin\R.exe CMD build --keep-empty-dirs --no-resave-data scMerge StartedAt: 2025-02-03 21:57:21 -0500 (Mon, 03 Feb 2025) EndedAt: 2025-02-03 22:00:54 -0500 (Mon, 03 Feb 2025) EllapsedTime: 212.8 seconds RetCode: 0 Status: OK PackageFile: scMerge_1.22.0.tar.gz PackageFileSize: 2.561 MiB