Package: scMerge Version: 1.22.0 Command: /home/biocbuild/R/R/bin/R CMD check --install=check:scMerge.install-out.txt --library=/home/biocbuild/R/R/site-library --no-vignettes --timings scMerge_1.22.0.tar.gz StartedAt: 2025-02-04 10:51:08 -0000 (Tue, 04 Feb 2025) EndedAt: 2025-02-04 11:00:51 -0000 (Tue, 04 Feb 2025) EllapsedTime: 582.8 seconds RetCode: 0 Status: OK CheckDir: scMerge.Rcheck Warnings: 0