Package: scMerge Version: 1.22.0 Command: /home/biocbuild/R/R/bin/R CMD INSTALL scMerge StartedAt: 2025-02-03 21:18:28 -0000 (Mon, 03 Feb 2025) EndedAt: 2025-02-03 21:19:25 -0000 (Mon, 03 Feb 2025) EllapsedTime: 57.8 seconds RetCode: 0 Status: OK