Package: scMultiSim Version: 1.2.0 Command: rm -rf scMultiSim.buildbin-libdir && mkdir scMultiSim.buildbin-libdir && /Users/biocbuild/BBS/utils/build-universal.sh scMultiSim_1.2.0.tar.gz /Library/Frameworks/R.framework/Resources/bin/R scMultiSim.buildbin-libdir StartedAt: 2025-02-05 17:42:06 -0500 (Wed, 05 Feb 2025) EndedAt: 2025-02-05 17:42:41 -0500 (Wed, 05 Feb 2025) EllapsedTime: 34.8 seconds RetCode: 0 Status: OK PackageFile: scMultiSim_1.2.0.tgz PackageFileSize: 5.774 MiB