Package: scMultiSim Version: 1.2.0 Command: rm -rf scMultiSim.buildbin-libdir && mkdir scMultiSim.buildbin-libdir && /Users/biocbuild/BBS/utils/build-universal.sh scMultiSim_1.2.0.tar.gz /Library/Frameworks/R.framework/Resources/bin/R scMultiSim.buildbin-libdir StartedAt: 2025-01-31 13:39:07 -0500 (Fri, 31 Jan 2025) EndedAt: 2025-01-31 13:40:10 -0500 (Fri, 31 Jan 2025) EllapsedTime: 62.7 seconds RetCode: 0 Status: OK PackageFile: scMultiSim_1.2.0.tgz PackageFileSize: 5.772 MiB