Package: scMultiSim Version: 1.2.0 Command: /home/biocbuild/bbs-3.20-bioc/R/bin/R CMD INSTALL scMultiSim StartedAt: 2025-02-03 15:29:54 -0500 (Mon, 03 Feb 2025) EndedAt: 2025-02-03 15:30:20 -0500 (Mon, 03 Feb 2025) EllapsedTime: 26.1 seconds RetCode: 0 Status: OK