Package: scMultiSim Version: 1.2.0 Command: chmod a+r scMultiSim -R && F:\biocbuild\bbs-3.20-bioc\R\bin\R.exe CMD build --keep-empty-dirs --no-resave-data scMultiSim StartedAt: 2025-02-03 21:58:27 -0500 (Mon, 03 Feb 2025) EndedAt: 2025-02-03 22:10:38 -0500 (Mon, 03 Feb 2025) EllapsedTime: 730.8 seconds RetCode: 0 Status: OK PackageFile: scMultiSim_1.2.0.tar.gz PackageFileSize: 4.066 MiB