Package: scMultiSim Version: 1.2.0 Command: /home/biocbuild/R/R/bin/R CMD INSTALL scMultiSim StartedAt: 2025-02-03 20:48:52 -0000 (Mon, 03 Feb 2025) EndedAt: 2025-02-03 20:49:26 -0000 (Mon, 03 Feb 2025) EllapsedTime: 33.3 seconds RetCode: 0 Status: OK