Package: scPCA Version: 1.20.0 Command: rm -rf scPCA.buildbin-libdir && mkdir scPCA.buildbin-libdir && /Users/biocbuild/BBS/utils/build-universal.sh scPCA_1.20.0.tar.gz /Library/Frameworks/R.framework/Resources/bin/R scPCA.buildbin-libdir StartedAt: 2025-02-12 16:56:40 -0500 (Wed, 12 Feb 2025) EndedAt: 2025-02-12 16:57:08 -0500 (Wed, 12 Feb 2025) EllapsedTime: 27.4 seconds RetCode: 0 Status: OK PackageFile: scPCA_1.20.0.tgz PackageFileSize: 2.082 MiB