Package: scPCA Version: 1.20.0 Command: /Library/Frameworks/R.framework/Resources/bin/R CMD build --keep-empty-dirs --no-resave-data scPCA StartedAt: 2025-02-11 07:37:01 -0500 (Tue, 11 Feb 2025) EndedAt: 2025-02-11 07:42:57 -0500 (Tue, 11 Feb 2025) EllapsedTime: 356.4 seconds RetCode: 0 Status: OK PackageFile: scPCA_1.20.0.tar.gz PackageFileSize: 2.054 MiB