Package: scPCA Version: 1.20.0 Command: /Library/Frameworks/R.framework/Resources/bin/R CMD check --install=check:scPCA.install-out.txt --library=/Library/Frameworks/R.framework/Resources/library --no-vignettes --timings scPCA_1.20.0.tar.gz StartedAt: 2025-02-04 09:48:16 -0500 (Tue, 04 Feb 2025) EndedAt: 2025-02-04 09:55:26 -0500 (Tue, 04 Feb 2025) EllapsedTime: 430.2 seconds RetCode: 0 Status: OK CheckDir: scPCA.Rcheck Warnings: 0