Package: scPCA Version: 1.20.0 Command: /home/biocbuild/bbs-3.20-bioc/R/bin/R CMD build --keep-empty-dirs --no-resave-data --md5 scPCA StartedAt: 2025-02-03 19:13:20 -0500 (Mon, 03 Feb 2025) EndedAt: 2025-02-03 19:18:00 -0500 (Mon, 03 Feb 2025) EllapsedTime: 280.3 seconds RetCode: 0 Status: OK PackageFile: scPCA_1.20.0.tar.gz PackageFileSize: 1.862 MiB