Package: scPCA Version: 1.20.0 Command: /home/biocbuild/bbs-3.20-bioc/R/bin/R CMD INSTALL scPCA StartedAt: 2025-02-10 15:54:58 -0500 (Mon, 10 Feb 2025) EndedAt: 2025-02-10 15:55:23 -0500 (Mon, 10 Feb 2025) EllapsedTime: 25.4 seconds RetCode: 0 Status: OK