Package: scPCA Version: 1.20.0 Command: rm -rf scPCA.buildbin-libdir && mkdir scPCA.buildbin-libdir && F:\biocbuild\bbs-3.20-bioc\R\bin\R.exe CMD INSTALL --build --library=scPCA.buildbin-libdir scPCA_1.20.0.tar.gz StartedAt: 2025-02-04 09:28:22 -0500 (Tue, 04 Feb 2025) EndedAt: 2025-02-04 09:28:52 -0500 (Tue, 04 Feb 2025) EllapsedTime: 29.3 seconds RetCode: 0 Status: OK PackageFile: scPCA_1.20.0.zip PackageFileSize: 909.6 KiB