Package: scPCA Version: 1.20.0 Command: chmod a+r scPCA -R && F:\biocbuild\bbs-3.20-bioc\R\bin\R.exe CMD build --keep-empty-dirs --no-resave-data scPCA StartedAt: 2025-02-03 21:59:56 -0500 (Mon, 03 Feb 2025) EndedAt: 2025-02-03 22:06:37 -0500 (Mon, 03 Feb 2025) EllapsedTime: 400.7 seconds RetCode: 0 Status: OK PackageFile: scPCA_1.20.0.tar.gz PackageFileSize: 873.3 KiB