Package: scPCA Version: 1.20.0 Command: /home/biocbuild/R/R/bin/R CMD INSTALL scPCA StartedAt: 2025-02-03 21:14:25 -0000 (Mon, 03 Feb 2025) EndedAt: 2025-02-03 21:14:59 -0000 (Mon, 03 Feb 2025) EllapsedTime: 34.1 seconds RetCode: 0 Status: OK