Package: scPipe Version: 2.6.0 Command: /Library/Frameworks/R.framework/Resources/bin/R CMD build --keep-empty-dirs --no-resave-data scPipe StartedAt: 2025-01-31 07:31:08 -0500 (Fri, 31 Jan 2025) EndedAt: 2025-01-31 07:47:37 -0500 (Fri, 31 Jan 2025) EllapsedTime: 989.2 seconds RetCode: 0 Status: OK PackageFile: scPipe_2.6.0.tar.gz PackageFileSize: 12.67 MiB