Package: scPipe Version: 2.6.0 Command: /Library/Frameworks/R.framework/Resources/bin/R CMD check --install=check:scPipe.install-out.txt --library=/Library/Frameworks/R.framework/Resources/library --no-vignettes --timings scPipe_2.6.0.tar.gz StartedAt: 2025-02-05 09:27:36 -0500 (Wed, 05 Feb 2025) EndedAt: 2025-02-05 09:40:28 -0500 (Wed, 05 Feb 2025) EllapsedTime: 771.8 seconds RetCode: 0 Status: OK CheckDir: scPipe.Rcheck Warnings: 0