Package: scPipe Version: 2.6.0 Command: rm -rf scPipe.buildbin-libdir && mkdir scPipe.buildbin-libdir && /Users/biocbuild/BBS/utils/build-universal.sh scPipe_2.6.0.tar.gz /Library/Frameworks/R.framework/Resources/bin/R scPipe.buildbin-libdir StartedAt: 2024-11-20 04:50:23 -0500 (Wed, 20 Nov 2024) EndedAt: 2024-11-20 04:53:37 -0500 (Wed, 20 Nov 2024) EllapsedTime: 193.7 seconds RetCode: 0 Status: OK PackageFile: scPipe_2.6.0.tgz PackageFileSize: 13.72 MiB