Package: scPipe Version: 2.6.0 Command: /Library/Frameworks/R.framework/Resources/bin/R CMD INSTALL scPipe StartedAt: 2025-01-30 16:09:39 -0500 (Thu, 30 Jan 2025) EndedAt: 2025-01-30 16:14:31 -0500 (Thu, 30 Jan 2025) EllapsedTime: 291.7 seconds RetCode: 0 Status: OK