Package: scPipe Version: 2.6.0 Command: /home/biocbuild/bbs-3.20-bioc/R/bin/R CMD check --install=check:scPipe.install-out.txt --library=/home/biocbuild/bbs-3.20-bioc/R/site-library --timings scPipe_2.6.0.tar.gz StartedAt: 2025-01-31 02:07:50 -0500 (Fri, 31 Jan 2025) EndedAt: 2025-01-31 02:15:54 -0500 (Fri, 31 Jan 2025) EllapsedTime: 484.4 seconds RetCode: 0 Status: OK CheckDir: scPipe.Rcheck Warnings: 0