Package: scPipe Version: 2.6.0 Command: chmod a+r scPipe -R && F:\biocbuild\bbs-3.20-bioc\R\bin\R.exe CMD build --keep-empty-dirs --no-resave-data scPipe StartedAt: 2025-01-30 21:43:32 -0500 (Thu, 30 Jan 2025) EndedAt: 2025-01-30 21:49:37 -0500 (Thu, 30 Jan 2025) EllapsedTime: 364.8 seconds RetCode: 0 Status: OK PackageFile: scPipe_2.6.0.tar.gz PackageFileSize: 12.46 MiB