Package: scPipe Version: 2.6.0 Command: /home/biocbuild/R/R/bin/R CMD build --keep-empty-dirs --no-resave-data scPipe StartedAt: 2025-01-31 02:32:58 -0000 (Fri, 31 Jan 2025) EndedAt: 2025-01-31 02:38:40 -0000 (Fri, 31 Jan 2025) EllapsedTime: 341.3 seconds RetCode: 0 Status: OK PackageFile: scPipe_2.6.0.tar.gz PackageFileSize: 12.54 MiB