Package: scPipe Version: 2.6.0 Command: /home/biocbuild/R/R/bin/R CMD check --install=check:scPipe.install-out.txt --library=/home/biocbuild/R/R/site-library --no-vignettes --timings scPipe_2.6.0.tar.gz StartedAt: 2025-01-31 10:14:19 -0000 (Fri, 31 Jan 2025) EndedAt: 2025-01-31 10:20:55 -0000 (Fri, 31 Jan 2025) EllapsedTime: 396.3 seconds RetCode: 0 Status: OK CheckDir: scPipe.Rcheck Warnings: 0