Package: scPipe Version: 2.6.0 Command: /home/biocbuild/R/R/bin/R CMD INSTALL scPipe StartedAt: 2025-01-30 20:47:26 -0000 (Thu, 30 Jan 2025) EndedAt: 2025-01-30 20:50:32 -0000 (Thu, 30 Jan 2025) EllapsedTime: 185.5 seconds RetCode: 0 Status: OK