Package: scReClassify Version: 1.12.0 Command: rm -rf scReClassify.buildbin-libdir && mkdir scReClassify.buildbin-libdir && /Users/biocbuild/BBS/utils/build-universal.sh scReClassify_1.12.0.tar.gz /Library/Frameworks/R.framework/Resources/bin/R scReClassify.buildbin-libdir StartedAt: 2025-02-01 16:48:06 -0500 (Sat, 01 Feb 2025) EndedAt: 2025-02-01 16:48:33 -0500 (Sat, 01 Feb 2025) EllapsedTime: 27.2 seconds RetCode: 0 Status: OK PackageFile: scReClassify_1.12.0.tgz PackageFileSize: 2.49 MiB